BEGIN:VCALENDAR
VERSION:2.0
METHOD:PUBLISH
PRODID:-//Accessible Web Design//My Calendar//http://www.joedolson.com//v//EN';
BEGIN:VEVENT
UID:115-99
LOCATION:
SUMMARY:FameLab Italia 2025
DTSTAMP:20250506
ORGANIZER;CN=Davide Dellatorre:MAILTO:davide.dellatorre@cnr.it
DTSTART:20250506
DTEND:20250508
CATEGORIES:Citizen Science, CNR, ICMATE, Organised by other institution
URL;VALUE=URI:https://www.icmate.cnr.it/mc-events/famelab-italia-2025/?mc_id=115
DESCRIPTION:Si è chiusa qualche giorno fa la selezione genovese di Famelab Italia 2025, un evento di divulgazione scientifica che ha come protagonisti giovani ricercatori con brevissimi talk a tema scientifico. Anche quest’anno le ricercatrici ICMATE Eva Santini e Giovanna Canu hanno partecipato, insieme all’Unità Relazioni con il Pubblico e Comunicazione integrata, all’organizzazione per il CNR,&hellip;
X-FUNAMBOL-ALLDAY: 1
X-MICROSOFT-CDO-ALLDAYEVENT: TRUE

END:VEVENT
END:VCALENDAR