BEGIN:VCALENDAR
VERSION:2.0
METHOD:PUBLISH
PRODID:-//Accessible Web Design//My Calendar//http://www.joedolson.com//v//EN';
BEGIN:VEVENT
UID:116-100
LOCATION:MILANO - Avanzi Co-Working  Via Andrea Maria Ampère n.61/A  Milano MI 20131
SUMMARY:ICMATE a Connesioni Sostenibili
DTSTAMP:20250529T090000
ORGANIZER;CN=Davide Dellatorre:MAILTO:davide.dellatorre@cnr.it
DTSTART:20250529T090000
DTEND:20250529T100000
CATEGORIES:Citizen Science, CNR, ICMATE, interview, Organised by other institution
URL;VALUE=URI:https://www.icmate.cnr.it/mc-events/icmate-a-connesioni-sostenibili/?mc_id=116
DESCRIPTION:CNR-ICMATE sarà presente con Sabrina Presto, che insieme alla collega Cristina Mangia, del CNR-ISAC, sarà intevistata da Rossella Muroni, sociologa e ecologista, sul tema donne, scienza e sostenibilità, a partire dal progetto di comunicazione scientifica "Scienziate visionarie".
END:VEVENT
END:VCALENDAR