BEGIN:VCALENDAR
VERSION:2.0
METHOD:PUBLISH
PRODID:-//Accessible Web Design//My Calendar//http://www.joedolson.com//v//EN';
BEGIN:VEVENT
UID:142-123
LOCATION:
SUMMARY:WEBINAR SERIES "MATERIALS MATTER"
DTSTAMP:20250908T150000
ORGANIZER;CN=Davide Dellatorre:MAILTO:davide.dellatorre@cnr.it
DTSTART:20250908T150000
DTEND:20250908T160000
CATEGORIES:ICMATE, WEBINAR
URL;VALUE=URI:https://www.icmate.cnr.it/mc-events/webinar-series-materials-matter-5/?mc_id=142
DESCRIPTION:  TYPE OF EVENT:   Webinar LOCATION AND DATE:   streaming, 08/09/2025 at 03.00 p.m Prof. Joonho Lee , Korea University Return of Tramp Elements – A Carbon-Neutral, Circular, Low-Carbon Ecosystem Mo Dr. Rafał Nowak, ICMATE Genova Phenomena in High-Temperature Metal–Ceramic Systems: From Al–MgO to In-Situ Composites LINK:  teams.microsoft.com/partecipation DOWNLOAD: Flyer
END:VEVENT
END:VCALENDAR