BEGIN:VCALENDAR
VERSION:2.0
METHOD:PUBLISH
PRODID:-//Accessible Web Design//My Calendar//http://www.joedolson.com//v//EN';
BEGIN:VEVENT
UID:150-131
LOCATION:
SUMMARY:World Space Week
DTSTAMP:20251007T143000
ORGANIZER;CN=Davide Dellatorre:MAILTO:davide.dellatorre@cnr.it
DTSTART:20251007T143000
DTEND:20251007T153000
CATEGORIES:Citizen Science, ICMATE
URL;VALUE=URI:https://www.icmate.cnr.it/mc-events/world-space-week/?mc_id=150
DESCRIPTION:Scienza, sostenibilità e visione nelle STEM. Incontro con Sabrina Presto il prossimo 7 ottobre 2025, all’IIS “Ciampini-Boccardo” di Novi Ligure.
END:VEVENT
END:VCALENDAR