BEGIN:VCALENDAR
VERSION:2.0
METHOD:PUBLISH
PRODID:-//Accessible Web Design//My Calendar//http://www.joedolson.com//v//EN';
BEGIN:VEVENT
UID:161-141
LOCATION:Politecnico di Milano - Bovisa Via Raffaele Lambruschini  Milano MI 20156
SUMMARY:Workshop AIM: Additive Metallurgy
DTSTAMP:20260121T121500
ORGANIZER;CN=Davide Dellatorre:MAILTO:davide.dellatorre@cnr.it
DTSTART:20260121T121500
DTEND:20260122T131500
CATEGORIES:course, ICMATE, Organised by other institution, workshop
URL;VALUE=URI:https://www.icmate.cnr.it/mc-events/workshop-aim-additive-metallurgy/?mc_id=161
DESCRIPTION:Milano c/o Politecnico di Milano - Campus Bovisa - 21-22 gennaio 2026 Il workshop si propone di fornire un aggiornamento sui nuovi sviluppi riguardo ai temi legati alla metallurgia e nuovi materiali per l’additive manufacturing. Lungo la catena del valore del processo si è cercato di evidenziare i principali temi di innovazione. I partecipanti al&hellip;
END:VEVENT
END:VCALENDAR