BEGIN:VCALENDAR
VERSION:2.0
METHOD:PUBLISH
PRODID:-//Accessible Web Design//My Calendar//http://www.joedolson.com//v//EN';
BEGIN:VEVENT
UID:3-3
LOCATION:
SUMMARY:WEBINAR "Science for Sustainable Development"
DTSTAMP:20240422T150000
ORGANIZER;CN=Davide Dellatorre:MAILTO:davide.dellatorre@cnr.it
DTSTART:20240422T150000
DTEND:20240422T170000
CATEGORIES:ICMATE, Seminar, WEBINAR
URL;VALUE=URI:https://www.icmate.cnr.it/mc-events/webinar-science-for-sustainable-development-3/?mc_id=3
DESCRIPTION:Prof.ssa Cristina Leonelli, Università degli Studi di Modena e Reggio EmiliaMicrowave-assisted processing of materialsDr. Cecilia Mortalò, ICMATE-CNR PadovaMicrowave-assisted approach for the preparation of luminescent nanopowders with tuned morphology and optical propertiesRead more to subscribe
END:VEVENT
END:VCALENDAR