BEGIN:VCALENDAR
VERSION:2.0
METHOD:PUBLISH
PRODID:-//Accessible Web Design//My Calendar//http://www.joedolson.com//v//EN';
BEGIN:VEVENT
UID:35-23
LOCATION:MARECO MARECO Spiaggetta della Curnea Bonassola Genova 19011
SUMMARY:Wave-watching Activity
DTSTAMP:20240509
ORGANIZER;CN=Davide Dellatorre:MAILTO:davide.dellatorre@cnr.it
DTSTART:20240509
DTEND:20240510
CATEGORIES:Citizen Science, ICMATE
URL;VALUE=URI:https://www.icmate.cnr.it/mc-events/wave-watching-activity/?mc_id=35
DESCRIPTION:  Hanno partecipato due quarte elementari dell'Istituto Comprensivo "Montaldo" di Genova Two fourth-graders from the Istituto Comprensivo ‘Montaldo’ in Genoa participated.
X-FUNAMBOL-ALLDAY: 1
X-MICROSOFT-CDO-ALLDAYEVENT: TRUE

END:VEVENT
END:VCALENDAR