BEGIN:VCALENDAR
VERSION:2.0
METHOD:PUBLISH
PRODID:-//Accessible Web Design//My Calendar//http://www.joedolson.com//v//EN';
BEGIN:VEVENT
UID:36-28
LOCATION:Allianz MiCo • Milano Convention Centre Piazzale Carlo Magno, 1/Gate 16  Milan Italy 20149
SUMMARY:SCI2024 “CHEMISTRY: ELEMENTS OF THE FUTURE”
DTSTAMP:20240826
ORGANIZER;CN=Davide Dellatorre:MAILTO:davide.dellatorre@cnr.it
DTSTART:20240826
DTEND:20240831
CATEGORIES:Conferenza, ICMATE, Organised by other institution
URL;VALUE=URI:https://www.icmate.cnr.it/mc-events/sci2024-chemistry-elements-of-the-future/?mc_id=36
DESCRIPTION:SCI2024 “CHEMISTRY: ELEMENTS OF THE FUTURE” This year’s congress of the Italian Chemical Society, SCI2024 “Chemistry: Elements of the Future”, is of particular relevance as the Department of Chemical Sciences and Materials Technology of the National Research Council (DSCTM-CNR) is in charge of planning the “Chemistry &amp; Society” session. Several ICMATE researchers are involved in the organization of sessions and topics,&hellip;
X-FUNAMBOL-ALLDAY: 1
X-MICROSOFT-CDO-ALLDAYEVENT: TRUE

END:VEVENT
END:VCALENDAR