BEGIN:VCALENDAR
VERSION:2.0
METHOD:PUBLISH
PRODID:-//Accessible Web Design//My Calendar//http://www.joedolson.com//v//EN';
BEGIN:VEVENT
UID:37-29
LOCATION:Milano Area di Ricerca 1 Via Alfonso Corti, 12, 20133   Milano  MI 20133
SUMMARY:Se la conosci la eviti
DTSTAMP:20240621T093000
ORGANIZER;CN=Davide Dellatorre:MAILTO:davide.dellatorre@cnr.it
DTSTART:20240621T093000
DTEND:20240621T130000
CATEGORIES:CNR, workshop
URL;VALUE=URI:https://www.icmate.cnr.it/mc-events/se-la-conosci-la-eviti/?mc_id=37
DESCRIPTION:Idee per contrastare le discriminazioni nella scienza. Workshop rivolto a tutto il personale dell’ente su “Riconoscimento delle discriminazioni latenti nella vita accademica e organizzativa dell’ente CNR” Per maggiori informazioni e scaricare la locandina dell'elenco consultare la pagina a questo link: Se la conosci la eviti.
END:VEVENT
END:VCALENDAR