BEGIN:VCALENDAR
VERSION:2.0
METHOD:PUBLISH
PRODID:-//Accessible Web Design//My Calendar//http://www.joedolson.com//v//EN';
BEGIN:VEVENT
UID:5-4
LOCATION:
SUMMARY:WEBINAR "Science for Sustainable Development"
DTSTAMP:20240124T150000
ORGANIZER;CN=Davide Dellatorre:MAILTO:davide.dellatorre@cnr.it
DTSTART:20240124T150000
DTEND:20240124T170000
CATEGORIES:ICMATE, Seminar, WEBINAR
URL;VALUE=URI:https://www.icmate.cnr.it/mc-events/webinar-science-for-sustainable-development/?mc_id=5
DESCRIPTION:Prof. Mato Knez, CIC nanoGUNE, Donostia / San Sebastian, and IKERBASQUE, Bilbao, SpainLessons from Nature: how to get the best out of materialsDr. Naida El Habra, ICMATE, PadovaProgresses in the design of functional systems by chemical vapor phase techniques for biomedical applications
END:VEVENT
END:VCALENDAR