BEGIN:VCALENDAR
VERSION:2.0
METHOD:PUBLISH
PRODID:-//Accessible Web Design//My Calendar//http://www.joedolson.com//v//EN';
BEGIN:VEVENT
UID:57-45
LOCATION:Scienza in Villa 2024 Villa Correr Pisani Via Aglaia Anassillide, 5,  Montebelluna  Montebelluna  TV 31044
SUMMARY:Scienza in Villa - Weekend edition
DTSTAMP:20240921T140000
ORGANIZER;CN=Davide Dellatorre:MAILTO:davide.dellatorre@cnr.it
DTSTART:20240921T140000
DTEND:20240921T150000
CATEGORIES:Citizen Science, ICMATE, Organised by other institution
URL;VALUE=URI:https://www.icmate.cnr.it/mc-events/scienza-in-villa-weekend-edition/?mc_id=57
DESCRIPTION:Scienza in Villa è un progetto nato nel 2019.Attività di divulgazione scientifica rivolta alla cittadinanza e alle scuole.
END:VEVENT
END:VCALENDAR