BEGIN:VCALENDAR
VERSION:2.0
METHOD:PUBLISH
PRODID:-//Accessible Web Design//My Calendar//http://www.joedolson.com//v//EN';
BEGIN:VEVENT
UID:68-54
LOCATION:
SUMMARY:Notte delle Ricercatrici e dei Ricercatori LECCE
DTSTAMP:20240927
ORGANIZER;CN=Davide Dellatorre:MAILTO:davide.dellatorre@cnr.it
DTSTART:20240927
DTEND:20240928
CATEGORIES:Citizen Science, CNR, European Project, ICMATE
URL;VALUE=URI:https://www.icmate.cnr.it/mc-events/notte-delle-ricercatrici-e-dei-ricercatori-lecce/?mc_id=68
DESCRIPTION:L'ICMATE, in collaborazione con l'ISAC, sarà presente a Lecce il 27 settembre alla Notte dei ricercatori e delle ricercatrici con un contributo dal titolo: Comunicare la ricerca su ambiente, clima e salute attraverso le biograﬁe di “scienziate visionarie". La complessità della crisi climatica e ambientale mostra l’urgenza di adottare nuovi approcci sia nell’indagine scientifica che&hellip;
X-FUNAMBOL-ALLDAY: 1
X-MICROSOFT-CDO-ALLDAYEVENT: TRUE

END:VEVENT
END:VCALENDAR