BEGIN:VCALENDAR
VERSION:2.0
METHOD:PUBLISH
PRODID:-//Accessible Web Design//My Calendar//http://www.joedolson.com//v//EN';
BEGIN:VEVENT
UID:79-64
LOCATION:
SUMMARY:Corso AIM - La Solidificazione
DTSTAMP:20250129
ORGANIZER;CN=Davide Dellatorre:MAILTO:davide.dellatorre@cnr.it
DTSTART:20250129
DTEND:20250131
CATEGORIES:course, ICMATE, Organised by other institution
URL;VALUE=URI:https://www.icmate.cnr.it/mc-events/corso-aim-la-solidificazione/?mc_id=79
DESCRIPTION:La Solidificazione Corso di base Vicenza - 29-30 gennaio 2025 La conoscenza dei meccanismi di solidificazione e il loro controllo svolgono un ruolo determinante nella produzione metallurgica: lo scopo del Corso di base sulla Solidificazione è, dunque, fornire una panoramica sugli aspetti di base ed applicativi della solidificazione di leghe metalliche. Fonte https://www.aimnet.it/ Al corso&hellip;
X-FUNAMBOL-ALLDAY: 1
X-MICROSOFT-CDO-ALLDAYEVENT: TRUE

END:VEVENT
END:VCALENDAR