BEGIN:VCALENDAR
VERSION:2.0
METHOD:PUBLISH
PRODID:-//Accessible Web Design//My Calendar//http://www.joedolson.com//v//EN';
BEGIN:VEVENT
UID:8-7
LOCATION:Genova Torre di Francia Via dei Marini 6 Genova  16149
SUMMARY:EDU2024 - Area di Ricerca di Genova
DTSTAMP:20240313
ORGANIZER;CN=Davide Dellatorre:MAILTO:davide.dellatorre@cnr.it
DTSTART:20240313
DTEND:20240315
CATEGORIES:Citizen Science, Organised by other institution
URL;VALUE=URI:https://www.icmate.cnr.it/mc-events/edu2024-area-di-ricerca-di-genova/?mc_id=8
DESCRIPTION:EDU2024 - ICMATE parteciperà con i laboratori divulgativi "Gocce &amp; Bolle: non solo saponi e schiume" e "Gocce Schizzinose" il 13 e 14 marzo 2024.
X-FUNAMBOL-ALLDAY: 1
X-MICROSOFT-CDO-ALLDAYEVENT: TRUE

END:VEVENT
END:VCALENDAR