BEGIN:VCALENDAR
VERSION:2.0
METHOD:PUBLISH
PRODID:-//Accessible Web Design//My Calendar//http://www.joedolson.com//v//EN';
BEGIN:VEVENT
UID:80-65
LOCATION:
SUMMARY:Light weight castings for Foundry
DTSTAMP:20250122T150000
ORGANIZER;CN=Davide Dellatorre:MAILTO:davide.dellatorre@cnr.it
DTSTART:20250122T150000
DTEND:20250122T160000
CATEGORIES:European Project, ICMATE, WEBINAR
URL;VALUE=URI:https://www.icmate.cnr.it/mc-events/light-weight-castings-for-foundry/?mc_id=80
DESCRIPTION:TYPE OF EVENT:   Webinar TITLES: Light weight castings for Foundry The webinar, organized under the framework of the EU project NetCastPL4.0, spotlight Austempered Ductile Irons (ADIs) and highlight over a decade of scientific collaboration between CNR-ICMATE and Zanardi Fonderie S.p.A., a European leader in ADI production. Aligning with NetCastPL4.0's mission to foster a Networking Pole&hellip;
END:VEVENT
END:VCALENDAR