BEGIN:VCALENDAR
VERSION:2.0
METHOD:PUBLISH
PRODID:-//Accessible Web Design//My Calendar//http://www.joedolson.com//v//EN';
BEGIN:VEVENT
UID:89-73
LOCATION:
SUMMARY:EUROMAT 2025
DTSTAMP:20250914
ORGANIZER;CN=Davide Dellatorre:MAILTO:davide.dellatorre@cnr.it
DTSTART:20250914
DTEND:20250919
CATEGORIES:Conferenza, ICMATE
URL;VALUE=URI:https://www.icmate.cnr.it/mc-events/euromat-2025/?mc_id=89
DESCRIPTION:
X-FUNAMBOL-ALLDAY: 1
X-MICROSOFT-CDO-ALLDAYEVENT: TRUE

END:VEVENT
END:VCALENDAR