BEGIN:VCALENDAR
VERSION:2.0
METHOD:PUBLISH
PRODID:-//Accessible Web Design//My Calendar//http://www.joedolson.com//v//EN';
BEGIN:VEVENT
UID:92-76
LOCATION:
SUMMARY:WEBINAR SERIES "MATERIALS MATTER"
DTSTAMP:20250219T150000
ORGANIZER;CN=Davide Dellatorre:MAILTO:davide.dellatorre@cnr.it
DTSTART:20250219T150000
DTEND:20250219T170000
CATEGORIES:ICMATE, Seminar, WEBINAR
URL;VALUE=URI:https://www.icmate.cnr.it/mc-events/webinar-series-materials-matter/?mc_id=92
DESCRIPTION:TYPE OF EVENT: Webinar Dr Massimo Viviani, CNR-ICMATE Genova Introduction to the Projects: High-temperature co-electrolysis at ICMATE Dr Sara Massardo, CNR-ICMATE Genova Overcoming challenges in solid oxides cells electrodes: stability and sustainability in perovskites The development of novel materials to enhance the performance of solid oxide fuel and electrolysis cells is a prominent focus in&hellip;
END:VEVENT
END:VCALENDAR