BEGIN:VCALENDAR
VERSION:2.0
METHOD:PUBLISH
PRODID:-//Accessible Web Design//My Calendar//http://www.joedolson.com//v//EN';
BEGIN:VEVENT
UID:95-79
LOCATION:Fiera di Trieste
SUMMARY:Trieste – Fiera OLIO CAPITALE
DTSTAMP:20250314
ORGANIZER;CN=Davide Dellatorre:MAILTO:davide.dellatorre@cnr.it
DTSTART:20250314
DTEND:20250315
CATEGORIES:Citizen Science, ICMATE, Organised by other institution, Seminar
URL;VALUE=URI:https://www.icmate.cnr.it/mc-events/trieste-fiera-olio-capitale/?mc_id=95
DESCRIPTION:TRIESTE 14 - 03 - 2025 Nell'ambito di Enterprise Europe Network EEN, ICMATE e ARIES organizzano un seminario per le aziende della filiera dell’#olio d’oliva! Un'occasione per scoprire esempi di sinergia vincente tra ricerca e impresa, promuovendo innovazione e sostenibilità nel settore. Per maggiori informazioni si rimanda al volantino: FLYER ed al sito dell'evento: OLIOCAPITALE
X-FUNAMBOL-ALLDAY: 1
X-MICROSOFT-CDO-ALLDAYEVENT: TRUE

END:VEVENT
END:VCALENDAR