BEGIN:VCALENDAR
VERSION:2.0
METHOD:PUBLISH
PRODID:-//Accessible Web Design//My Calendar//http://www.joedolson.com//v//EN';
BEGIN:VEVENT
UID:99-83
LOCATION:“Cattedrale” ex Macello - PADOVA Via Cornaro 1  Padova PD 35128
SUMMARY:Sperimentando 2025: Conferenza "La Scienza nell'acqua"
DTSTAMP:20250329T163000
ORGANIZER;CN=Davide Dellatorre:MAILTO:davide.dellatorre@cnr.it
DTSTART:20250329T163000
DTEND:20250329T173000
CATEGORIES:Citizen Science, Conferenza, ICMATE, Organised by other institution
URL;VALUE=URI:https://www.icmate.cnr.it/mc-events/sperimentando-2025-conferenza-la-scienza-nellacqua/?mc_id=99
DESCRIPTION:DOVE: Padova, “Cattedrale” ex Macello, via Cornaro 1. QUANDO: Sabato 29-03-2025, ore 16.30 Sperimentando 2025. H2O una molecola per la vita. Cosa, come, dove e quando? La mostra scientifica interattiva Sperimentando si propone per il 2025 di prendere in considerazione la più semplice delle sostanze del nostro pianeta: l’acqua. ICMATE è stato invitato dal comitato&hellip;
END:VEVENT
END:VCALENDAR